回多个平台构建/检查报告BioC 3.17 |
|
这个页面生成于-0500年2023-01-25 11:10:04(结婚,2023年1月25日)。
主机名 | 操作系统 | 拱(*) | R版本 | 安装的包裹 |
---|---|---|---|---|
nebbiolo1 | Linux (Ubuntu 22.04.1 LTS) | x86_64 | 正在开发R(不稳定)(2023-01-10 r83596)——“Unsuffered后果” | 4464年 |
palomino3 | Windows Server 2022数据中心 | x64 | R正在开发的(不稳定的)(2023-01-10 r83596 ucrt)——“Unsuffered后果” | 4245年 |
merida1 | macOS 10.14.6莫哈韦沙漠 | x86_64 | 正在开发R(不稳定)(2023-01-10 r83596)——“Unsuffered后果” | 4268年 |
点击任何主机名看到更多的信息系统(如编译器)(*)报道的uname - p”,除了在Windows和Mac OS X |
的开发人员/维2021欧洲杯体育投注开户护者ORFik包: ——请允许24小时(有时是48小时)为您的最新推到git@git.bioconductor.org:包/ ORFik.git 反思这一报告。看到如何以及何时builder拉吗?当我的更改传播吗?为更多的信息。 ——确保使用以下设置为了复制任何错误或警告你看到这个页面上。 |
包1400年/ 2162 | 主机名 | OS /拱 | 安装 | 构建 | 检查 | 构建本 | ||||||||
ORFik1.19.3(着陆页) 哈Tjeldnes
|
nebbiolo1 | Linux (Ubuntu 22.04.1 LTS) / x86_64 | 好吧 | 好吧 | 错误 | |||||||||
palomino3 | Windows Server 2022数据中心/ x64 | 好吧 | 好吧 | 错误 | 好吧 | |||||||||
merida1 | macOS 10.14.6莫哈韦/ x86_64 | 好吧 | 好吧 | 错误 | 好吧 | |||||||||
包:ORFik |
版本:1.19.3 |
命令:/图书馆/框架/ R.framework /资源/ bin / R CMD构建——keep-empty-dirs no-resave-data ORFik |
StartedAt-0500:2023-01-24 19:49:16(星期二,2023年1月24日) |
EndedAt-0500:2023-01-24 19:58:19(星期二,2023年1月24日) |
EllapsedTime:543.3秒 |
RetCode:0 |
状态:好吧 |
PackageFile:ORFik_1.19.3.tar.gz |
PackageFileSize:3.188MiB |
# # # # # # # # # # # # # # # # # # # # # # # # # # # # # # # # # # # # # # # # # # # # # # # # # # # # # # # # # # # # # # # # # # # # # # # # # # # # # # # # # # # # # # # # # # # # # # # # # # # # # # # # # # # # # # # # # # # # # # # # # # # # # # # # # # # # # # # # # # # # # # # # # # # # # # # # # # # # # # # # # #运行命令:# # # # # # /图书馆/框架/ R.framework /资源/ bin / R CMD构建——keep-empty-dirs no-resave-data ORFik # # # # # # # # # # # # # # # # # # # # # # # # # # # # # # # # # # # # # # # # # # # # # # # # # # # # # # # # # # # # # # # # # # # # # # # # # # # # # # # # # # # # # # # # # # # # # # # # # # # # # # # # # # # # # # # # # # # # # # # # # # # # # # # # # # # # # # # # # # # # # # # # # # # # # # # # # # # # # # # *检查文件“ORFik /描述”……好*准备“ORFik”: *检查描述元信息…好*清洁src *安装包来构建片段*创建小插曲…好*清洁src *检查低频源,使文件和shell脚本上下文菜单*检查空的或不需要的目录省略的LazyData描述*建筑“ORFik_1.19.3.tar.gz”