回多个平台构建/检查报告BioC 3.18:简化长 |
|
这个页面生成于-0400年2023-07-08 11:36:58(坐,2023年08年7月)。
主机名 | 操作系统 | 拱(*) | R版本 | 安装的包裹 |
---|---|---|---|---|
nebbiolo2 | Linux (Ubuntu 22.04.2 LTS) | x86_64 | 4.3.1(2023-06-16)——“小童子军” | 4610年 |
palomino4 | Windows Server 2022数据中心 | x64 | 4.3.1 (2023-06-16 ucrt)——“小童子军” | 4344年 |
lconway | macOS 12.6.5蒙特利 | x86_64 | 4.3.1修补(2023-06-17 r84564)——“小童子军” | 4350年 |
kunpeng2 | Linux (openEuler 22.03 LTS-SP1) | aarch64 | 4.3.1(2023-06-16)——“小童子军” | 4347年 |
点击任何主机名看到更多的信息系统(如编译器)(*)报道的uname - p”,除了在Windows和Mac OS X |
包973年/ 2211 | 主机名 | OS /拱 | 安装 | 构建 | 检查 | 构建本 | ||||||||
染色体组型1.77.0(着陆页) 卡尔·j·Dykema
|
nebbiolo2 | Linux (Ubuntu 22.04.2 LTS) / x86_64 | 好吧 | 好吧 | 好吧 | |||||||||
palomino4 | Windows Server 2022数据中心/ x64 | 好吧 | 好吧 | 好吧 | 好吧 | |||||||||
lconway | macOS 12.6.5蒙特利/ x86_64 | 好吧 | 好吧 | 好吧 | 好吧 | |||||||||
kunpeng2 | Linux (openEuler 22.03 LTS-SP1) / aarch64 | 好吧 | 好吧 | 好吧 | ||||||||||
基于kunpeng2 (Linux ARM64)实验! |
开发人员/维护2021欧洲杯体育投注开户者的染色体组型包: ——允许24小时(有时是48小时)为您的最新推到git@git.bioconductor.org:包/ idiogram.git反思这一报告。看到故障排除构建报告为更多的信息。 ——使用以下Renviron设置复制错误和警告。 ——如果“R CMD检查”开始失败最近在Linux构建器(s) /缺失的依赖关系,将缺失的依赖关系添加到的建议:“你的描述文件。看到Renviron.bioc为更多的信息。 |
包:染色体组型 |
版本:1.77.0 |
命令F: \ biocbuild \论坛- 3.18 bioc \ R \ bin \ R。exe CMD安装染色体组型 |
StartedAt-0400:2023-07-07 16:00:48(星期五,07年7月2023) |
EndedAt-0400:2023-07-07 16:01:13(星期五,07年7月2023) |
EllapsedTime:24.6秒 |
RetCode:0 |
状态:好吧 |
# # # # # # # # # # # # # # # # # # # # # # # # # # # # # # # # # # # # # # # # # # # # # # # # # # # # # # # # # # # # # # # # # # # # # # # # # # # # # # # # # # # # # # # # # # # # # # # # # # # # # # # # # # # # # # # # # # # # # # # # # # # # # # # # # # # # # # # # # # # # # # # # # # # # # # # # # # # # # # # # # #运行命令:# # # # # # F: \ biocbuild \论坛- 3.18 bioc \ R \ bin \ R。exe CMD安装染色体组型### ############################################################################## ############################################################################## * installing to library 'F:/biocbuild/bbs-3.18-bioc/R/library' * installing *source* package 'idiogram' ... ** using staged installation ** R ** data *** moving datasets to lazyload DB ** byte-compile and prepare package for lazy loading ** help *** installing help indices ** building package indices ** installing vignettes ** testing if installed package can be loaded from temporary location ** testing if installed package can be loaded from final location ** testing if installed package keeps a record of temporary installation path * DONE (idiogram)