回多个平台构建/检查报告BioC 3.18:简化长 |
|
这个页面生成于-0400年2023-07-08 11:36:26(坐,2023年08年7月)。
主机名 | 操作系统 | 拱(*) | R版本 | 安装的包裹 |
---|---|---|---|---|
nebbiolo2 | Linux (Ubuntu 22.04.2 LTS) | x86_64 | 4.3.1(2023-06-16)——“小童子军” | 4610年 |
palomino4 | Windows Server 2022数据中心 | x64 | 4.3.1 (2023-06-16 ucrt)——“小童子军” | 4344年 |
lconway | macOS 12.6.5蒙特利 | x86_64 | 4.3.1修补(2023-06-17 r84564)——“小童子军” | 4350年 |
kunpeng2 | Linux (openEuler 22.03 LTS-SP1) | aarch64 | 4.3.1(2023-06-16)——“小童子军” | 4347年 |
点击任何主机名看到更多的信息系统(如编译器)(*)报道的uname - p”,除了在Windows和Mac OS X |
包2073年/ 2211 | 主机名 | OS /拱 | 安装 | 构建 | 检查 | 构建本 | ||||||||
TFutils1.21.0(着陆页) 文森特·凯里
|
nebbiolo2 | Linux (Ubuntu 22.04.2 LTS) / x86_64 | 好吧 | 好吧 | 好吧 | |||||||||
palomino4 | Windows Server 2022数据中心/ x64 | 好吧 | 好吧 | 好吧 | NA | |||||||||
lconway | macOS 12.6.5蒙特利/ x86_64 | 好吧 | 好吧 | 好吧 | 好吧 | |||||||||
kunpeng2 | Linux (openEuler 22.03 LTS-SP1) / aarch64 | 好吧 | 错误 | 跳过 | ||||||||||
基于kunpeng2 (Linux ARM64)实验! |
的开发人员/维2021欧洲杯体育投注开户护者TFutils包: ——允许24小时(有时是48小时)为您的最新推到git@git.bioconductor.org:包/ TFutils.git反思这一报告。看到故障排除构建报告为更多的信息。 ——使用以下Renviron设置复制错误和警告。 ——如果“R CMD检查”开始失败最近在Linux构建器(s) /缺失的依赖关系,将缺失的依赖关系添加到的建议:“你的描述文件。看到Renviron.bioc为更多的信息。 |
包:TFutils |
版本:1.21.0 |
命令:/home/biocbuild/bbs - 3.18 - bioc R / R / bin / CMD构建——keep-empty-dirs no-resave-data TFutils |
StartedAt-0400:2023-07-07 18:45:10(星期五,07年7月2023) |
EndedAt-0400:2023-07-07 18:46:35(星期五,07年7月2023) |
EllapsedTime:85.1秒 |
RetCode:0 |
状态:好吧 |
PackageFile:TFutils_1.21.0.tar.gz |
PackageFileSize:5.94MiB |
# # # # # # # # # # # # # # # # # # # # # # # # # # # # # # # # # # # # # # # # # # # # # # # # # # # # # # # # # # # # # # # # # # # # # # # # # # # # # # # # # # # # # # # # # # # # # # # # # # # # # # # # # # # # # # # # # # # # # # # # # # # # # # # # # # # # # # # # # # # # # # # # # # # # # # # # # # # # # # # # # #运行命令:# # # # # # /home/biocbuild/bbs - 3.18 - bioc R / R / bin / CMD构建——keep-empty-dirs no-resave-data TFutils # # # # # # # # # # # # # # # # # # # # # # # # # # # # # # # # # # # # # # # # # # # # # # # # # # # # # # # # # # # # # # # # # # # # # # # # # # # # # # # # # # # # # # # # # # # # # # # # # # # # # # # # # # # # # # # # # # # # # # # # # # # # # # # # # # # # # # # # # # # # # # # # # # # # # # # # # # # # # # # *检查文件“TFutils /描述”……好*准备“TFutils”: *检查描述元信息…好安装包来构建小品文* *创建小插曲…好*检查如果在源和上下文菜单文件和shell脚本*检查空的或不需要的目录*建筑“TFutils_1.21.0.tar.gz”