回BioC 3.17的多平台构建/检查报告 |
|
本文生成于2023-01-24 11:04:36 -0500(2023年1月24日星期二)。
主机名 | 操作系统 | 拱(*) | R版本 | 安装的包裹 |
---|---|---|---|---|
nebbiolo1 | Linux (Ubuntu 22.04.1 LTS) | x86_64 | R开发中(不稳定)(2023-01-10 r83596)—“未受影响的后果” | 4464 |
palomino3 | Windows Server 2022数据中心 | x64 | R开发中(不稳定)(2023-01-10 r83596 ucrt)—“未受影响的后果” | 4244 |
merida1 | macOS 10.14.6 Mojave | x86_64 | R开发中(不稳定)(2023-01-10 r83596)—“未受影响的后果” | 4268 |
点击任何主机名,以查看'uname -p'报告的有关系统(例如编译器)(*)的更多信息,Windows和Mac OS X除外 |
给experi2021欧洲杯体育投注开户icalbrownsmethod包的开发者/维护者: -请允许最多24小时(有时是48小时)将您的最新推送到git@git.bioconductor.org:packages/EmpiricalBrownsMethod.git 反思这份报告。看到施工人员如何、何时拉?我的更改何时传播?获取更多信息。 -一定要使用以下设置为了重现您在本页上看到的任何错误或警告。 |
包595/ 2162 | 主机名 | 操作系统/拱门 | 安装 | 构建 | 检查 | 构建本 | ||||||||
EmpiricalBrownsMethod 1.27.0(着陆页) 大卫·吉布斯
|
nebbiolo1 | Linux (Ubuntu 22.04.1 LTS) / x86_64 | 好吧 | 好吧 | 好吧 | |||||||||
palomino3 | Windows Server 2022数据中心/ x64 | 好吧 | 好吧 | 好吧 | 好吧 | |||||||||
merida1 | macOS 10.14.6 Mojave / x86_64 .使用实例 | 好吧 | 好吧 | 好吧 | 好吧 | |||||||||
快速统计数据 | 操作系统/拱门 | 安装 | 构建 | 检查 | 构建本 | |||||||||||||||||
nebbiolo1 | Linux (Ubuntu 22.04.1 LTS) / x86_64 |
|
|
|
||||||||||||||||||
palomino3 | Windows Server 2022数据中心/ x64 |
|
|
|
|
|||||||||||||||||
merida1 | macOS 10.14.6 Mojave / x86_64 .使用实例 |
|
|
|
|
|||||||||||||||||
包1/ 2 | 主机名 | 操作系统/拱门 | 安装 | 构建 | 检查 | 构建本 | ||||||||||||||||
EBSEA1.27.0(着陆页) 阿尔发Mehmood
|
nebbiolo1 | Linux (Ubuntu 22.04.1 LTS) / x86_64 | 好吧 | 好吧 | 好吧 | |||||||||||||||||
palomino3 | Windows Server 2022数据中心/ x64 | 好吧 | 好吧 | 好吧 | 好吧 | |||||||||||||||||
merida1 | macOS 10.14.6 Mojave / x86_64 .使用实例 | 好吧 | 好吧 | 好吧 | 好吧 | |||||||||||||||||
包2/ 2 | 主机名 | 操作系统/拱门 | 安装 | 构建 | 检查 | 构建本 | ||||||||||||||||
NADfinder1.23.0(着陆页) Jianhong欧
|
nebbiolo1 | Linux (Ubuntu 22.04.1 LTS) / x86_64 | 好吧 | 好吧 | 好吧 | |||||||||||||||||
palomino3 | Windows Server 2022数据中心/ x64 | 好吧 | 好吧 | 好吧 | 好吧 | |||||||||||||||||
merida1 | macOS 10.14.6 Mojave / x86_64 .使用实例 | 好吧 | 好吧 | 好吧 | 好吧 | |||||||||||||||||